BEGIN:VCALENDAR
VERSION:2.0
PRODID:-//William Berton - ECPv6.15.20//NONSGML v1.0//EN
CALSCALE:GREGORIAN
METHOD:PUBLISH
X-WR-CALNAME:William Berton
X-ORIGINAL-URL:https://williamberton.com
X-WR-CALDESC:Évènements pour William Berton
REFRESH-INTERVAL;VALUE=DURATION:PT1H
X-Robots-Tag:noindex
X-PUBLISHED-TTL:PT1H
BEGIN:VTIMEZONE
TZID:Europe/Paris
BEGIN:DAYLIGHT
TZOFFSETFROM:+0100
TZOFFSETTO:+0200
TZNAME:CEST
DTSTART:20260329T010000
END:DAYLIGHT
BEGIN:STANDARD
TZOFFSETFROM:+0200
TZOFFSETTO:+0100
TZNAME:CET
DTSTART:20261025T010000
END:STANDARD
BEGIN:DAYLIGHT
TZOFFSETFROM:+0100
TZOFFSETTO:+0200
TZNAME:CEST
DTSTART:20270328T010000
END:DAYLIGHT
BEGIN:STANDARD
TZOFFSETFROM:+0200
TZOFFSETTO:+0100
TZNAME:CET
DTSTART:20271031T010000
END:STANDARD
BEGIN:DAYLIGHT
TZOFFSETFROM:+0100
TZOFFSETTO:+0200
TZNAME:CEST
DTSTART:20280326T010000
END:DAYLIGHT
BEGIN:STANDARD
TZOFFSETFROM:+0200
TZOFFSETTO:+0100
TZNAME:CET
DTSTART:20281029T010000
END:STANDARD
END:VTIMEZONE
BEGIN:VEVENT
DTSTART;TZID=Europe/Paris:20270506T120000
DTEND;TZID=Europe/Paris:20270509T120000
DTSTAMP:20260422T183617
CREATED:20250424T095628Z
LAST-MODIFIED:20250424T095628Z
UID:20600-1809604800-1809864000@williamberton.com
SUMMARY:Roue Eveil / groupe 12 / C 1
DESCRIPTION:
URL:https://williamberton.com/date/roue-eveil-groupe-12-c-1/
ORGANIZER;CN="William Berton":MAILTO:contact@williamberton.fr
END:VEVENT
BEGIN:VEVENT
DTSTART;TZID=Europe/Paris:20270513T120000
DTEND;TZID=Europe/Paris:20270516T120000
DTSTAMP:20260422T183617
CREATED:20250424T095828Z
LAST-MODIFIED:20250424T095828Z
UID:20604-1810209600-1810468800@williamberton.com
SUMMARY:Rour Eveil / groupe 13 / session A 1
DESCRIPTION:
URL:https://williamberton.com/date/rour-eveil-groupe-13-session-a-1/
END:VEVENT
BEGIN:VEVENT
DTSTART;TZID=Europe/Paris:20270525T080000
DTEND;TZID=Europe/Paris:20270528T170000
DTSTAMP:20260422T183617
CREATED:20250424T095025Z
LAST-MODIFIED:20250424T095050Z
UID:20591-1811232000-1811523600@williamberton.com
SUMMARY:Formation Couleur Energie / Session 14
DESCRIPTION:
URL:https://williamberton.com/date/formation-couleur-energie-sssion-14/
LOCATION:Les fous du village Saint Esteben\, Maison Sorhaburu\, SAINT ESTEBEN\, 64640\, France
END:VEVENT
END:VCALENDAR