BEGIN:VCALENDAR
VERSION:2.0
PRODID:-//William Berton - ECPv6.15.20//NONSGML v1.0//EN
CALSCALE:GREGORIAN
METHOD:PUBLISH
X-ORIGINAL-URL:https://williamberton.com
X-WR-CALDESC:Évènements pour William Berton
REFRESH-INTERVAL;VALUE=DURATION:PT1H
X-Robots-Tag:noindex
X-PUBLISHED-TTL:PT1H
BEGIN:VTIMEZONE
TZID:Europe/Paris
BEGIN:DAYLIGHT
TZOFFSETFROM:+0100
TZOFFSETTO:+0200
TZNAME:CEST
DTSTART:20250330T010000
END:DAYLIGHT
BEGIN:STANDARD
TZOFFSETFROM:+0200
TZOFFSETTO:+0100
TZNAME:CET
DTSTART:20251026T010000
END:STANDARD
BEGIN:DAYLIGHT
TZOFFSETFROM:+0100
TZOFFSETTO:+0200
TZNAME:CEST
DTSTART:20260329T010000
END:DAYLIGHT
BEGIN:STANDARD
TZOFFSETFROM:+0200
TZOFFSETTO:+0100
TZNAME:CET
DTSTART:20261025T010000
END:STANDARD
BEGIN:DAYLIGHT
TZOFFSETFROM:+0100
TZOFFSETTO:+0200
TZNAME:CEST
DTSTART:20270328T010000
END:DAYLIGHT
BEGIN:STANDARD
TZOFFSETFROM:+0200
TZOFFSETTO:+0100
TZNAME:CET
DTSTART:20271031T010000
END:STANDARD
END:VTIMEZONE
BEGIN:VEVENT
DTSTART;TZID=Europe/Paris:20261029T080000
DTEND;TZID=Europe/Paris:20261101T170000
DTSTAMP:20260422T102048
CREATED:20250422T194152Z
LAST-MODIFIED:20250422T194519Z
UID:20523-1793260800-1793552400@williamberton.com
SUMMARY:Roue Eveil / Groupe 12 / Session B 2
DESCRIPTION:
URL:https://williamberton.com/date/roue-eveil-groupe-14-session-5/
ORGANIZER;CN="William Berton":MAILTO:contact@williamberton.fr
END:VEVENT
BEGIN:VEVENT
DTSTART;TZID=Europe/Paris:20261118T080000
DTEND;TZID=Europe/Paris:20261119T170000
DTSTAMP:20260422T102048
CREATED:20250422T200141Z
LAST-MODIFIED:20250422T200141Z
UID:20544-1794988800-1795107600@williamberton.com
SUMMARY:Formation Couleur Energie / session 9
DESCRIPTION:
URL:https://williamberton.com/date/formation-couleur-energie-session-9-2/
LOCATION:Les fous du village Saint Esteben\, Maison Sorhaburu\, SAINT ESTEBEN\, 64640\, France
ORGANIZER;CN="William Berton":MAILTO:contact@williamberton.fr
END:VEVENT
BEGIN:VEVENT
DTSTART;TZID=Europe/Paris:20261126T080000
DTEND;TZID=Europe/Paris:20261129T170000
DTSTAMP:20260422T102048
CREATED:20250422T200402Z
LAST-MODIFIED:20250422T200616Z
UID:20548-1795680000-1795971600@williamberton.com
SUMMARY:Roue Eveil / Groupe 13 / Session A 1
DESCRIPTION:
URL:https://williamberton.com/date/frormation-couleur-energie-session-10/
ORGANIZER;CN="William Berton":MAILTO:contact@williamberton.fr
END:VEVENT
END:VCALENDAR