BEGIN:VCALENDAR
VERSION:2.0
PRODID:-//William Berton - ECPv6.15.20//NONSGML v1.0//EN
CALSCALE:GREGORIAN
METHOD:PUBLISH
X-ORIGINAL-URL:https://williamberton.com
X-WR-CALDESC:Évènements pour William Berton
REFRESH-INTERVAL;VALUE=DURATION:PT1H
X-Robots-Tag:noindex
X-PUBLISHED-TTL:PT1H
BEGIN:VTIMEZONE
TZID:Europe/Paris
BEGIN:DAYLIGHT
TZOFFSETFROM:+0100
TZOFFSETTO:+0200
TZNAME:CEST
DTSTART:20250330T010000
END:DAYLIGHT
BEGIN:STANDARD
TZOFFSETFROM:+0200
TZOFFSETTO:+0100
TZNAME:CET
DTSTART:20251026T010000
END:STANDARD
BEGIN:DAYLIGHT
TZOFFSETFROM:+0100
TZOFFSETTO:+0200
TZNAME:CEST
DTSTART:20260329T010000
END:DAYLIGHT
BEGIN:STANDARD
TZOFFSETFROM:+0200
TZOFFSETTO:+0100
TZNAME:CET
DTSTART:20261025T010000
END:STANDARD
BEGIN:DAYLIGHT
TZOFFSETFROM:+0100
TZOFFSETTO:+0200
TZNAME:CEST
DTSTART:20270328T010000
END:DAYLIGHT
BEGIN:STANDARD
TZOFFSETFROM:+0200
TZOFFSETTO:+0100
TZNAME:CET
DTSTART:20271031T010000
END:STANDARD
END:VTIMEZONE
BEGIN:VEVENT
DTSTART;TZID=Europe/Paris:20260603T080000
DTEND;TZID=Europe/Paris:20260604T170000
DTSTAMP:20260422T024107
CREATED:20250422T191439Z
LAST-MODIFIED:20250422T191529Z
UID:20495-1780473600-1780592400@williamberton.com
SUMMARY:Formation Couleur-Energie / session 6
DESCRIPTION:
URL:https://williamberton.com/date/formation-couleur-energie-session-5/
LOCATION:Les fous du village Saint Esteben\, Maison Sorhaburu\, SAINT ESTEBEN\, 64640\, France
ORGANIZER;CN="William Berton":MAILTO:contact@williamberton.fr
END:VEVENT
BEGIN:VEVENT
DTSTART;TZID=Europe/Paris:20260606T080000
DTEND;TZID=Europe/Paris:20260607T170000
DTSTAMP:20260422T024107
CREATED:20250422T192107Z
LAST-MODIFIED:20250422T192107Z
UID:20504-1780732800-1780851600@williamberton.com
SUMMARY:Roue Eveil / Groupe 12 / session 12
DESCRIPTION:
URL:https://williamberton.com/date/roue-eveil-groupe-12-session-12/
ORGANIZER;CN="William Berton":MAILTO:contact@williamberton.fr
END:VEVENT
BEGIN:VEVENT
DTSTART;TZID=Europe/Paris:20260611T080000
DTEND;TZID=Europe/Paris:20260614T170000
DTSTAMP:20260422T024107
CREATED:20250422T091430Z
LAST-MODIFIED:20250422T091752Z
UID:20427-1781164800-1781456400@williamberton.com
SUMMARY:Roue Eveil Groupe 12 / session B1
DESCRIPTION:
URL:https://williamberton.com/date/roue-eveil-groupe-12-session-a2/
ORGANIZER;CN="William Berton":MAILTO:contact@williamberton.fr
END:VEVENT
BEGIN:VEVENT
DTSTART;TZID=Europe/Paris:20260620T080000
DTEND;TZID=Europe/Paris:20260623T170000
DTSTAMP:20260422T024107
CREATED:20250422T090047Z
LAST-MODIFIED:20250422T090408Z
UID:20409-1781942400-1782234000@williamberton.com
SUMMARY:Forlmation Langage des couleurs Session 14
DESCRIPTION:
URL:https://williamberton.com/date/forlmation-langage-des-couleurs-session-9/
LOCATION:Chez vous
ORGANIZER;CN="William Berton":MAILTO:contact@williamberton.fr
END:VEVENT
BEGIN:VEVENT
DTSTART;TZID=Europe/Paris:20260627T080000
DTEND;TZID=Europe/Paris:20260628T170000
DTSTAMP:20260422T024107
CREATED:20250422T192402Z
LAST-MODIFIED:20250422T192402Z
UID:20510-1782547200-1782666000@williamberton.com
SUMMARY:Roue Eveil / Groupe 14 / Session 4
DESCRIPTION:
URL:https://williamberton.com/date/roue-eveil-groupe-14-session-4/
ORGANIZER;CN="William Berton":MAILTO:contact@williamberton.fr
END:VEVENT
END:VCALENDAR