BEGIN:VCALENDAR
VERSION:2.0
PRODID:-//William Berton - ECPv6.15.20//NONSGML v1.0//EN
CALSCALE:GREGORIAN
METHOD:PUBLISH
X-WR-CALNAME:William Berton
X-ORIGINAL-URL:https://williamberton.com
X-WR-CALDESC:Évènements pour William Berton
REFRESH-INTERVAL;VALUE=DURATION:PT1H
X-Robots-Tag:noindex
X-PUBLISHED-TTL:PT1H
BEGIN:VTIMEZONE
TZID:Europe/Paris
BEGIN:DAYLIGHT
TZOFFSETFROM:+0100
TZOFFSETTO:+0200
TZNAME:CEST
DTSTART:20250330T010000
END:DAYLIGHT
BEGIN:STANDARD
TZOFFSETFROM:+0200
TZOFFSETTO:+0100
TZNAME:CET
DTSTART:20251026T010000
END:STANDARD
BEGIN:DAYLIGHT
TZOFFSETFROM:+0100
TZOFFSETTO:+0200
TZNAME:CEST
DTSTART:20260329T010000
END:DAYLIGHT
BEGIN:STANDARD
TZOFFSETFROM:+0200
TZOFFSETTO:+0100
TZNAME:CET
DTSTART:20261025T010000
END:STANDARD
BEGIN:DAYLIGHT
TZOFFSETFROM:+0100
TZOFFSETTO:+0200
TZNAME:CEST
DTSTART:20270328T010000
END:DAYLIGHT
BEGIN:STANDARD
TZOFFSETFROM:+0200
TZOFFSETTO:+0100
TZNAME:CET
DTSTART:20271031T010000
END:STANDARD
END:VTIMEZONE
BEGIN:VEVENT
DTSTART;TZID=Europe/Paris:20260114T080000
DTEND;TZID=Europe/Paris:20260115T170000
DTSTAMP:20260422T041722
CREATED:20250422T092712Z
LAST-MODIFIED:20250422T092712Z
UID:20442-1768377600-1768496400@williamberton.com
SUMMARY:Formation Couleur Energie / Session 3
DESCRIPTION:
URL:https://williamberton.com/date/formation-couleur-energie-session-3/
LOCATION:Les fous du village Saint Esteben\, Maison Sorhaburu\, SAINT ESTEBEN\, 64640\, France
ORGANIZER;CN="William Berton":MAILTO:contact@williamberton.fr
END:VEVENT
BEGIN:VEVENT
DTSTART;TZID=Europe/Paris:20260117T080000
DTEND;TZID=Europe/Paris:20260118T170000
DTSTAMP:20260422T041722
CREATED:20250422T093136Z
LAST-MODIFIED:20250422T093136Z
UID:20453-1768636800-1768755600@williamberton.com
SUMMARY:Roue Eveil 14 / session 2
DESCRIPTION:
URL:https://williamberton.com/date/roue-eveil-14-session-2/
END:VEVENT
BEGIN:VEVENT
DTSTART;TZID=Europe/Paris:20260124T080000
DTEND;TZID=Europe/Paris:20260125T170000
DTSTAMP:20260422T041722
CREATED:20250422T093900Z
LAST-MODIFIED:20250422T093900Z
UID:20461-1769241600-1769360400@williamberton.com
SUMMARY:Formation langage des couleurs / session 10
DESCRIPTION:
URL:https://williamberton.com/date/formation-langage-des-couleurs-session-10/
LOCATION:Chez vous
ORGANIZER;CN="William Berton":MAILTO:contact@williamberton.fr
END:VEVENT
END:VCALENDAR