BEGIN:VCALENDAR
VERSION:2.0
PRODID:-//William Berton - ECPv6.15.20//NONSGML v1.0//EN
CALSCALE:GREGORIAN
METHOD:PUBLISH
X-WR-CALNAME:William Berton
X-ORIGINAL-URL:https://williamberton.com
X-WR-CALDESC:Évènements pour William Berton
REFRESH-INTERVAL;VALUE=DURATION:PT1H
X-Robots-Tag:noindex
X-PUBLISHED-TTL:PT1H
BEGIN:VTIMEZONE
TZID:Europe/Paris
BEGIN:DAYLIGHT
TZOFFSETFROM:+0100
TZOFFSETTO:+0200
TZNAME:CEST
DTSTART:20240331T010000
END:DAYLIGHT
BEGIN:STANDARD
TZOFFSETFROM:+0200
TZOFFSETTO:+0100
TZNAME:CET
DTSTART:20241027T010000
END:STANDARD
BEGIN:DAYLIGHT
TZOFFSETFROM:+0100
TZOFFSETTO:+0200
TZNAME:CEST
DTSTART:20250330T010000
END:DAYLIGHT
BEGIN:STANDARD
TZOFFSETFROM:+0200
TZOFFSETTO:+0100
TZNAME:CET
DTSTART:20251026T010000
END:STANDARD
BEGIN:DAYLIGHT
TZOFFSETFROM:+0100
TZOFFSETTO:+0200
TZNAME:CEST
DTSTART:20260329T010000
END:DAYLIGHT
BEGIN:STANDARD
TZOFFSETFROM:+0200
TZOFFSETTO:+0100
TZNAME:CET
DTSTART:20261025T010000
END:STANDARD
END:VTIMEZONE
BEGIN:VEVENT
DTSTART;TZID=Europe/Paris:20250607T090000
DTEND;TZID=Europe/Paris:20250608T170000
DTSTAMP:20260422T140143
CREATED:20250421T164500Z
LAST-MODIFIED:20250421T164500Z
UID:20319-1749286800-1749402000@williamberton.com
SUMMARY:Rour de l'Eveil 13 / Session 8
DESCRIPTION:
URL:https://williamberton.com/date/rour-de-leveil-13-session-8/
LOCATION:Hasparren 64240\, quartier Minhotz\, Hasparren\, 64240\, France
ORGANIZER;CN="William Berton":MAILTO:contact@williamberton.fr
END:VEVENT
BEGIN:VEVENT
DTSTART;TZID=Europe/Paris:20250614T080000
DTEND;TZID=Europe/Paris:20250615T170000
DTSTAMP:20260422T140143
CREATED:20250421T164625Z
LAST-MODIFIED:20250421T164625Z
UID:20323-1749888000-1750006800@williamberton.com
SUMMARY:Formation langage couleur session 6
DESCRIPTION:
URL:https://williamberton.com/date/formation-langage-couleur-session-6/
LOCATION:Chez vous
ORGANIZER;CN="William Berton":MAILTO:contact@williamberton.fr
END:VEVENT
BEGIN:VEVENT
DTSTART;TZID=Europe/Paris:20250626T120000
DTEND;TZID=Europe/Paris:20250629T120000
DTSTAMP:20260422T140143
CREATED:20250421T164811Z
LAST-MODIFIED:20250421T164811Z
UID:20327-1750939200-1751198400@williamberton.com
SUMMARY:Roue Eveil 12 / Session A1
DESCRIPTION:
URL:https://williamberton.com/date/roue-eveil-12-session-a1/
ORGANIZER;CN="William Berton":MAILTO:contact@williamberton.fr
END:VEVENT
END:VCALENDAR