BEGIN:VCALENDAR
VERSION:2.0
PRODID:-//William Berton - ECPv6.15.20//NONSGML v1.0//EN
CALSCALE:GREGORIAN
METHOD:PUBLISH
X-ORIGINAL-URL:https://williamberton.com
X-WR-CALDESC:Évènements pour William Berton
REFRESH-INTERVAL;VALUE=DURATION:PT1H
X-Robots-Tag:noindex
X-PUBLISHED-TTL:PT1H
BEGIN:VTIMEZONE
TZID:Europe/Paris
BEGIN:DAYLIGHT
TZOFFSETFROM:+0100
TZOFFSETTO:+0200
TZNAME:CEST
DTSTART:20220327T010000
END:DAYLIGHT
BEGIN:STANDARD
TZOFFSETFROM:+0200
TZOFFSETTO:+0100
TZNAME:CET
DTSTART:20221030T010000
END:STANDARD
BEGIN:DAYLIGHT
TZOFFSETFROM:+0100
TZOFFSETTO:+0200
TZNAME:CEST
DTSTART:20230326T010000
END:DAYLIGHT
BEGIN:STANDARD
TZOFFSETFROM:+0200
TZOFFSETTO:+0100
TZNAME:CET
DTSTART:20231029T010000
END:STANDARD
BEGIN:DAYLIGHT
TZOFFSETFROM:+0100
TZOFFSETTO:+0200
TZNAME:CEST
DTSTART:20240331T010000
END:DAYLIGHT
BEGIN:STANDARD
TZOFFSETFROM:+0200
TZOFFSETTO:+0100
TZNAME:CET
DTSTART:20241027T010000
END:STANDARD
END:VTIMEZONE
BEGIN:VEVENT
DTSTART;VALUE=DATE:20230629
DTEND;VALUE=DATE:20230707
DTSTAMP:20260423T175503
CREATED:20220618T110933Z
LAST-MODIFIED:20221024T170714Z
UID:15862-1687996800-1688687999@williamberton.com
SUMMARY:Trouver sa Place
DESCRIPTION:
URL:https://williamberton.com/date/trouver-sa-place-8/
LOCATION:Moulin d’Ozon\, Saint Etienne de Fontbellon\, 07200\, France
END:VEVENT
BEGIN:VEVENT
DTSTART;TZID=Europe/Paris:20230711T190000
DTEND;TZID=Europe/Paris:20230711T213000
DTSTAMP:20260423T175503
CREATED:20221028T103341Z
LAST-MODIFIED:20221028T103341Z
UID:17364-1689102000-1689111000@williamberton.com
SUMMARY:Réaliser ses rêves
DESCRIPTION:
URL:https://williamberton.com/date/realiser-ses-reves/
LOCATION:Quartier Minhotz  Hasparren 64240\, Maison Barende-Pipia Quartier Minotz\, Hasparren\, 64240\, France
ORGANIZER;CN="William Berton":MAILTO:contact@williamberton.fr
END:VEVENT
BEGIN:VEVENT
DTSTART;VALUE=DATE:20230723
DTEND;VALUE=DATE:20230730
DTSTAMP:20260423T175503
CREATED:20220618T111126Z
LAST-MODIFIED:20221024T170932Z
UID:15865-1690070400-1690675199@williamberton.com
SUMMARY:Être en Joie
DESCRIPTION:
URL:https://williamberton.com/date/etre-en-joie-2/
LOCATION:ARZAL
ORGANIZER;CN="Marie Laure Percot":MAILTO:info@marielaurepercot.fr
END:VEVENT
END:VCALENDAR