BEGIN:VCALENDAR
VERSION:2.0
PRODID:-//William Berton - ECPv6.15.20//NONSGML v1.0//EN
CALSCALE:GREGORIAN
METHOD:PUBLISH
X-WR-CALNAME:William Berton
X-ORIGINAL-URL:https://williamberton.com
X-WR-CALDESC:Évènements pour William Berton
REFRESH-INTERVAL;VALUE=DURATION:PT1H
X-Robots-Tag:noindex
X-PUBLISHED-TTL:PT1H
BEGIN:VTIMEZONE
TZID:Europe/Paris
BEGIN:DAYLIGHT
TZOFFSETFROM:+0100
TZOFFSETTO:+0200
TZNAME:CEST
DTSTART:20220327T010000
END:DAYLIGHT
BEGIN:STANDARD
TZOFFSETFROM:+0200
TZOFFSETTO:+0100
TZNAME:CET
DTSTART:20221030T010000
END:STANDARD
BEGIN:DAYLIGHT
TZOFFSETFROM:+0100
TZOFFSETTO:+0200
TZNAME:CEST
DTSTART:20230326T010000
END:DAYLIGHT
BEGIN:STANDARD
TZOFFSETFROM:+0200
TZOFFSETTO:+0100
TZNAME:CET
DTSTART:20231029T010000
END:STANDARD
BEGIN:DAYLIGHT
TZOFFSETFROM:+0100
TZOFFSETTO:+0200
TZNAME:CEST
DTSTART:20240331T010000
END:DAYLIGHT
BEGIN:STANDARD
TZOFFSETFROM:+0200
TZOFFSETTO:+0100
TZNAME:CET
DTSTART:20241027T010000
END:STANDARD
END:VTIMEZONE
BEGIN:VEVENT
DTSTART;TZID=Europe/Paris:20230603T080000
DTEND;TZID=Europe/Paris:20230604T170000
DTSTAMP:20260423T190238
CREATED:20220618T110538Z
LAST-MODIFIED:20220618T110538Z
UID:15853-1685779200-1685898000@williamberton.com
SUMMARY:Roue Eveil Groupe 12 session 6
DESCRIPTION:
URL:https://williamberton.com/date/roue-eveil-groupe-12-session-6/
LOCATION:Hasparren\, Quartier Minhotz\, HASPARREN\, 64240\, France
ORGANIZER;CN="William Berton":MAILTO:contact@williamberton.fr
END:VEVENT
BEGIN:VEVENT
DTSTART;TZID=Europe/Paris:20230610T080000
DTEND;TZID=Europe/Paris:20230611T170000
DTSTAMP:20260423T190238
CREATED:20220618T110647Z
LAST-MODIFIED:20221024T170223Z
UID:15856-1686384000-1686502800@williamberton.com
SUMMARY:Formation langage couleur session 6
DESCRIPTION:
URL:https://williamberton.com/date/formation-langage-couleur/
LOCATION:Hasparren\, Quartier Minhotz\, HASPARREN\, 64240\, France
ORGANIZER;CN="William Berton":MAILTO:contact@williamberton.fr
END:VEVENT
BEGIN:VEVENT
DTSTART;TZID=Europe/Paris:20230613T190000
DTEND;TZID=Europe/Paris:20230613T213000
DTSTAMP:20260423T190238
CREATED:20221028T104847Z
LAST-MODIFIED:20221028T104847Z
UID:17379-1686682800-1686691800@williamberton.com
SUMMARY:Réaliser ses rêves
DESCRIPTION:
URL:https://williamberton.com/date/realiser-ses-reves-2/
LOCATION:Quartier Minhotz  Hasparren 64240\, Maison Barende-Pipia Quartier Minotz\, Hasparren\, 64240\, France
ORGANIZER;CN="William Berton":MAILTO:contact@williamberton.fr
END:VEVENT
BEGIN:VEVENT
DTSTART;VALUE=DATE:20230617
DTEND;VALUE=DATE:20230619
DTSTAMP:20260423T190238
CREATED:20221024T170532Z
LAST-MODIFIED:20221024T170532Z
UID:17272-1686960000-1687132799@williamberton.com
SUMMARY:Roue de l'éveil 14 session 2
DESCRIPTION:
URL:https://williamberton.com/date/roue-de-leveil-14-session-2/
LOCATION:Hasparren 64240\, quartier Minhotz\, Hasparren\, 64240\, France
ORGANIZER;CN="William Berton":MAILTO:contact@williamberton.fr
END:VEVENT
BEGIN:VEVENT
DTSTART;VALUE=DATE:20230629
DTEND;VALUE=DATE:20230707
DTSTAMP:20260423T190238
CREATED:20220618T110933Z
LAST-MODIFIED:20221024T170714Z
UID:15862-1687996800-1688687999@williamberton.com
SUMMARY:Trouver sa Place
DESCRIPTION:
URL:https://williamberton.com/date/trouver-sa-place-8/
LOCATION:Moulin d’Ozon\, Saint Etienne de Fontbellon\, 07200\, France
END:VEVENT
END:VCALENDAR