BEGIN:VCALENDAR
VERSION:2.0
PRODID:-//William Berton - ECPv6.15.20//NONSGML v1.0//EN
CALSCALE:GREGORIAN
METHOD:PUBLISH
X-ORIGINAL-URL:https://williamberton.com
X-WR-CALDESC:Évènements pour William Berton
REFRESH-INTERVAL;VALUE=DURATION:PT1H
X-Robots-Tag:noindex
X-PUBLISHED-TTL:PT1H
BEGIN:VTIMEZONE
TZID:Europe/Paris
BEGIN:DAYLIGHT
TZOFFSETFROM:+0100
TZOFFSETTO:+0200
TZNAME:CEST
DTSTART:20230326T010000
END:DAYLIGHT
BEGIN:STANDARD
TZOFFSETFROM:+0200
TZOFFSETTO:+0100
TZNAME:CET
DTSTART:20231029T010000
END:STANDARD
BEGIN:DAYLIGHT
TZOFFSETFROM:+0100
TZOFFSETTO:+0200
TZNAME:CEST
DTSTART:20240331T010000
END:DAYLIGHT
BEGIN:STANDARD
TZOFFSETFROM:+0200
TZOFFSETTO:+0100
TZNAME:CET
DTSTART:20241027T010000
END:STANDARD
BEGIN:DAYLIGHT
TZOFFSETFROM:+0100
TZOFFSETTO:+0200
TZNAME:CEST
DTSTART:20250330T010000
END:DAYLIGHT
BEGIN:STANDARD
TZOFFSETFROM:+0200
TZOFFSETTO:+0100
TZNAME:CET
DTSTART:20251026T010000
END:STANDARD
END:VTIMEZONE
BEGIN:VEVENT
DTSTART;TZID=Europe/Paris:20240404T080000
DTEND;TZID=Europe/Paris:20240407T170000
DTSTAMP:20260423T090229
CREATED:20230802T092758Z
LAST-MODIFIED:20230802T093509Z
UID:18273-1712217600-1712509200@williamberton.com
SUMMARY:Formation couleurs habillement / maison 1
DESCRIPTION:
URL:https://williamberton.com/date/formation-couleurs-habillement-maison-1/
LOCATION:Hasparren 64240\, quartier Minhotz\, Hasparren\, 64240\, France
ORGANIZER;CN="William Berton":MAILTO:contact@williamberton.fr
END:VEVENT
END:VCALENDAR