BEGIN:VCALENDAR
VERSION:2.0
PRODID:-//William Berton - ECPv6.15.20//NONSGML v1.0//EN
CALSCALE:GREGORIAN
METHOD:PUBLISH
X-WR-CALNAME:William Berton
X-ORIGINAL-URL:https://williamberton.com
X-WR-CALDESC:Évènements pour William Berton
REFRESH-INTERVAL;VALUE=DURATION:PT1H
X-Robots-Tag:noindex
X-PUBLISHED-TTL:PT1H
BEGIN:VTIMEZONE
TZID:Europe/Paris
BEGIN:DAYLIGHT
TZOFFSETFROM:+0100
TZOFFSETTO:+0200
TZNAME:CEST
DTSTART:20210328T010000
END:DAYLIGHT
BEGIN:STANDARD
TZOFFSETFROM:+0200
TZOFFSETTO:+0100
TZNAME:CET
DTSTART:20211031T010000
END:STANDARD
BEGIN:DAYLIGHT
TZOFFSETFROM:+0100
TZOFFSETTO:+0200
TZNAME:CEST
DTSTART:20220327T010000
END:DAYLIGHT
BEGIN:STANDARD
TZOFFSETFROM:+0200
TZOFFSETTO:+0100
TZNAME:CET
DTSTART:20221030T010000
END:STANDARD
BEGIN:DAYLIGHT
TZOFFSETFROM:+0100
TZOFFSETTO:+0200
TZNAME:CEST
DTSTART:20230326T010000
END:DAYLIGHT
BEGIN:STANDARD
TZOFFSETFROM:+0200
TZOFFSETTO:+0100
TZNAME:CET
DTSTART:20231029T010000
END:STANDARD
END:VTIMEZONE
BEGIN:VEVENT
DTSTART;TZID=Europe/Paris:20221119T080000
DTEND;TZID=Europe/Paris:20221121T170000
DTSTAMP:20260424T085356
CREATED:20220618T103955Z
LAST-MODIFIED:20221024T162101Z
UID:15832-1668844800-1669050000@williamberton.com
SUMMARY:Roue éveil session 1 - 6 ème année
DESCRIPTION:
URL:https://williamberton.com/date/roue-eveil-session-1-6-eme-annee/
LOCATION:Moulin d’Ozon\, Saint Etienne de Fontbellon\, 07200\, France
ORGANIZER;CN="William Berton":MAILTO:contact@williamberton.fr
END:VEVENT
END:VCALENDAR